BEGIN:VCALENDAR
VERSION:2.0
PRODID:-//Cityskate Winterthur - ECPv6.15.18//NONSGML v1.0//EN
CALSCALE:GREGORIAN
METHOD:PUBLISH
X-WR-CALNAME:Cityskate Winterthur
X-ORIGINAL-URL:https://cityskate.ch
X-WR-CALDESC:Veranstaltungen für Cityskate Winterthur
REFRESH-INTERVAL;VALUE=DURATION:PT1H
X-Robots-Tag:noindex
X-PUBLISHED-TTL:PT1H
BEGIN:VTIMEZONE
TZID:Europe/Berlin
BEGIN:DAYLIGHT
TZOFFSETFROM:+0100
TZOFFSETTO:+0200
TZNAME:CEST
DTSTART:20250330T010000
END:DAYLIGHT
BEGIN:STANDARD
TZOFFSETFROM:+0200
TZOFFSETTO:+0100
TZNAME:CET
DTSTART:20251026T010000
END:STANDARD
BEGIN:DAYLIGHT
TZOFFSETFROM:+0100
TZOFFSETTO:+0200
TZNAME:CEST
DTSTART:20260329T010000
END:DAYLIGHT
BEGIN:STANDARD
TZOFFSETFROM:+0200
TZOFFSETTO:+0100
TZNAME:CET
DTSTART:20261025T010000
END:STANDARD
BEGIN:DAYLIGHT
TZOFFSETFROM:+0100
TZOFFSETTO:+0200
TZNAME:CEST
DTSTART:20270328T010000
END:DAYLIGHT
BEGIN:STANDARD
TZOFFSETFROM:+0200
TZOFFSETTO:+0100
TZNAME:CET
DTSTART:20271031T010000
END:STANDARD
END:VTIMEZONE
BEGIN:VTIMEZONE
TZID:Europe/Zurich
BEGIN:DAYLIGHT
TZOFFSETFROM:+0100
TZOFFSETTO:+0200
TZNAME:CEST
DTSTART:20250330T010000
END:DAYLIGHT
BEGIN:STANDARD
TZOFFSETFROM:+0200
TZOFFSETTO:+0100
TZNAME:CET
DTSTART:20251026T010000
END:STANDARD
BEGIN:DAYLIGHT
TZOFFSETFROM:+0100
TZOFFSETTO:+0200
TZNAME:CEST
DTSTART:20260329T010000
END:DAYLIGHT
BEGIN:STANDARD
TZOFFSETFROM:+0200
TZOFFSETTO:+0100
TZNAME:CET
DTSTART:20261025T010000
END:STANDARD
BEGIN:DAYLIGHT
TZOFFSETFROM:+0100
TZOFFSETTO:+0200
TZNAME:CEST
DTSTART:20270328T010000
END:DAYLIGHT
BEGIN:STANDARD
TZOFFSETFROM:+0200
TZOFFSETTO:+0100
TZNAME:CET
DTSTART:20271031T010000
END:STANDARD
END:VTIMEZONE
BEGIN:VEVENT
DTSTART;TZID=Europe/Berlin:20260511T194500
DTEND;TZID=Europe/Berlin:20260511T220000
DTSTAMP:20260423T142520
CREATED:20240303T161833Z
LAST-MODIFIED:20260303T133243Z
UID:2158-1778528700-1778536800@cityskate.ch
SUMMARY:1. Ausfahrt Route 3 - Eulachpark
DESCRIPTION:Der Cityskate Winterthur lädt alle herzlich ein an unserer ersten Ausfahrt der Saison teilzunehmen. \nBesammlungsstart: 19:45 Uhr\nStart der Ausfahrt: 20:15 Uhr \nNachdem das Lindquartier durchstreift wurde\, begeben wir uns ins ehemalige Industriegebiet von Oberwinterthur\, wo uns das erste Highlight erwartet – der Eulachpark; Er ist der jüngste und grösste Park Winterthurs. Das ehemalige Dorf Hegi mit seinen historischen Häusern bildet einen gelungenen Übergang zur Pause bei der Coop Hegi. Auf dem Rückweg rollen wir durch die Quartiere Seen\, Mattenbach und Stadt zurück zum Ausgangspunkt. \nLänge: 18.5 km
URL:https://cityskate.ch/event/1-ausfahrt-route-3-eulachpark/
LOCATION:Route 3 – Eulachpark\, Steinberggasse 26\, Winterthur\, Zürich\, 8400\, Switzerland
CATEGORIES:Ausfahrten
END:VEVENT
BEGIN:VEVENT
DTSTART;TZID=Europe/Berlin:20260601T194500
DTEND;TZID=Europe/Berlin:20260601T221500
DTSTAMP:20260423T142520
CREATED:20240303T161832Z
LAST-MODIFIED:20260322T105208Z
UID:1202-1780343100-1780352100@cityskate.ch
SUMMARY:2. Ausfahrt Route 2 - Rundum
DESCRIPTION:Der Cityskate Winterthur lädt alle herzlich ein an unserer zweiten Ausfahrt teilzunehmen. \nBesammlungsstart: 19:45 Uhr\nStart der Ausfahrt: 20:15 Uhr \nWir setzen zu einer richtiggehenden Sightseeingtour an: Wir umrunden die Stadt auf den grosszügig ausgebauten und gut asphaltierten Strassen\, darunter die Untere Vogelsang-\, Schlosstal-\, Wülflinger-\, Seener- und Tösstalstrasse. Im Uhrzeigersinn werden alle 7 Stadtteile besucht\, wobei sich lange Geraden und kurze Abstecher in Winterthurer Quartiere abwechseln. Dazwischen pausieren wir auf dem Parkplatz der Eulachhallen. \nLänge: 21 km
URL:https://cityskate.ch/event/2-ausfahrt-route-2-rundum/
LOCATION:Route 2 – Rundum\, Steinberggasse 26\, Winterthur\, Zürich\, 8400\, Switzerland
CATEGORIES:Ausfahrten
END:VEVENT
BEGIN:VEVENT
DTSTART;TZID=Europe/Berlin:20260608T194500
DTEND;TZID=Europe/Berlin:20260608T221500
DTSTAMP:20260423T142520
CREATED:20240303T161832Z
LAST-MODIFIED:20260322T105227Z
UID:1205-1780947900-1780956900@cityskate.ch
SUMMARY:3. Ausfahrt Route 1 - Kistenpass
DESCRIPTION:Der Cityskate Winterthur lädt alle herzlich ein an unserer dritten Ausfahrt teilzunehmen. \nBesammlungsstart: 19:45 Uhr\nStart der Ausfahrt: 20:15 Uhr \nNicht umsonst gilt diese Ausfahrt als die landschaftlich schönste. Wir verlassen nach kurzer Zeit den urbanen Raum und erkunden die Winterthurer Aussenwachten Reutlingen und Stadel. Die letzten Sonnenstrahlen des Tages begleiten uns\, wenn wir zwischen den Feldern zum Kistenpass aufsteigen und anschliessend zum Schloss Hegi heruntergleiten. Bei der Coop Hegi bleibt Zeit für eine kurze Verschnaufpause\, ehe es via Seen\, Mattenbach und über die Storchenbrücke zurück in die Altstadt geht. \nLänge: 18 km
URL:https://cityskate.ch/event/3-ausfahrt-route-1-kistenpass/
LOCATION:Route 1 – Kistenpass\, Steinberggasse 26\, Winterthur\, Zürich\, 8400\, Switzerland
CATEGORIES:Ausfahrten
END:VEVENT
BEGIN:VEVENT
DTSTART;TZID=Europe/Berlin:20260622T194500
DTEND;TZID=Europe/Berlin:20260622T221500
DTSTAMP:20260423T142520
CREATED:20240303T161832Z
LAST-MODIFIED:20260303T133840Z
UID:1216-1782157500-1782166500@cityskate.ch
SUMMARY:4. Ausfahrt Route 4 – Goldenberg
DESCRIPTION:Der Cityskate Winterthur lädt alle herzlich ein an unserer vierten Ausfahrt teilzunehmen. \nBesammlungsstart: 19:45 Uhr\nStart der Ausfahrt: 20:15 Uhr \nZwei wunderschöne\, mässig steile und langgezogene\, Abfahrten kann man bei dieser Route geniessen. Da ist einerseits die Rychenbergstrasse\, wo man unterhalb der Rebberge des Goldenbergs zum Kantonsspital gelangt und anderseits die Schaffhauserstrasse\, wo man nach Umrundung des Einkaufszentrums Rosenberg eine lange Abfahrt zurück zur Altstadt in Angriff nimmt. Wenn dann noch hochsommerliche Verhältnisse herrschen\, ist die Kombination perfekt und man kann in der Pause – sofern man an die Badehose gedacht hat – ein erfrischendes Bad und kulinarische Köstlichkeiten in der Badi Oberi geniessen. \nLänge: 19.8 km
URL:https://cityskate.ch/event/4-ausfahrt-route-4-goldenberg/
LOCATION:Route 4 – Goldenberg\, Steinberggasse 26\, Winterthur\, Zürich\, 8400\, Switzerland
CATEGORIES:Ausfahrten
END:VEVENT
BEGIN:VEVENT
DTSTART;TZID=Europe/Berlin:20260706T200000
DTEND;TZID=Europe/Berlin:20260706T221500
DTSTAMP:20260423T142520
CREATED:20240303T161832Z
LAST-MODIFIED:20260322T105238Z
UID:1218-1783368000-1783376100@cityskate.ch
SUMMARY:5. Ausfahrt Route 2 – Rundum
DESCRIPTION:Der Cityskate Winterthur lädt alle herzlich ein an unserer fünften Ausfahrt teilzunehmen. \nBesammlungsstart: 19:45 Uhr\nStart der Ausfahrt: 20:15 Uhr \nWir setzen zu einer richtiggehenden Sightseeingtour an: Wir umrunden die Stadt auf den grosszügig ausgebauten und gut asphaltierten Strassen\, darunter die Untere Vogelsang-\, Schlosstal-\, Wülflinger-\, Seener- und Tösstalstrasse. Im Uhrzeigersinn werden alle 7 Stadtteile besucht\, wobei sich lange Geraden und kurze Abstecher in Winterthurer Quartiere abwechseln. Dazwischen pausieren wir auf dem Parkplatz der Eulachhallen. \nLänge: 21 km
URL:https://cityskate.ch/event/5-ausfahrt-route-2-rundum/
LOCATION:Route 2 – Rundum\, Steinberggasse 26\, Winterthur\, Zürich\, 8400\, Switzerland
CATEGORIES:Ausfahrten
END:VEVENT
BEGIN:VEVENT
DTSTART;TZID=Europe/Berlin:20260720T194500
DTEND;TZID=Europe/Berlin:20260720T221500
DTSTAMP:20260423T142520
CREATED:20240303T161832Z
LAST-MODIFIED:20260322T105258Z
UID:1220-1784576700-1784585700@cityskate.ch
SUMMARY:6. Ausfahrt Route 1 – Kistenpass
DESCRIPTION:Der Cityskate Winterthur lädt alle herzlich ein an unserer sechsten Ausfahrt teilzunehmen. \nBesammlungsstart: 19:45 Uhr\nStart der Ausfahrt: 20:15 Uhr \nNicht umsonst gilt diese Ausfahrt als die landschaftlich schönste. Wir verlassen nach kurzer Zeit den urbanen Raum und erkunden die Winterthurer Aussenwachten Reutlingen und Stadel. Die letzten Sonnenstrahlen des Tages begleiten uns\, wenn wir zwischen den Feldern zum Kistenpass aufsteigen und anschliessend zum Schloss Hegi heruntergleiten. Bei der Coop Hegi bleibt Zeit für eine kurze Verschnaufpause\, ehe es via Seen\, Mattenbach und über die Storchenbrücke zurück in die Altstadt geht. \nLänge: 18 km
URL:https://cityskate.ch/event/6-ausfahrt-route-1-kistenpass/
LOCATION:Route 1 – Kistenpass\, Steinberggasse 26\, Winterthur\, Zürich\, 8400\, Switzerland
CATEGORIES:Ausfahrten
END:VEVENT
BEGIN:VEVENT
DTSTART;TZID=Europe/Berlin:20260727T194500
DTEND;TZID=Europe/Berlin:20260727T221500
DTSTAMP:20260423T142520
CREATED:20240303T161832Z
LAST-MODIFIED:20260323T194330Z
UID:1224-1785181500-1785190500@cityskate.ch
SUMMARY:7. Ausfahrt Route 2 - Rundum
DESCRIPTION:Der Cityskate Winterthur lädt alle herzlich ein an unserer achten Ausfahrt teilzunehmen. \nBesammlungsstart: 19:45 Uhr\nStart der Ausfahrt: 20:15 Uhr \nWir setzen zu einer richtiggehenden Sightseeingtour an: Wir umrunden die Stadt auf den grosszügig ausgebauten und gut asphaltierten Strassen\, darunter die Untere Vogelsang-\, Schlosstal-\, Wülflinger-\, Seener- und Tösstalstrasse. Im Uhrzeigersinn werden alle 7 Stadtteile besucht\, wobei sich lange Geraden und kurze Abstecher in Winterthurer Quartiere abwechseln. Dazwischen pausieren wir auf dem Parkplatz der Eulachhallen. \nLänge: 21 km
URL:https://cityskate.ch/event/8-ausfahrt-route-2-rundum/
LOCATION:Route 2 – Rundum Anderer Startort\, Oberer Graben 40\, Winterthur\, Zürich\, 8400\, Switzerland
CATEGORIES:Ausfahrten
END:VEVENT
BEGIN:VEVENT
DTSTART;TZID=Europe/Berlin:20260803T194500
DTEND;TZID=Europe/Berlin:20260803T213000
DTSTAMP:20260423T142520
CREATED:20240303T161832Z
LAST-MODIFIED:20260323T194357Z
UID:1222-1785786300-1785792600@cityskate.ch
SUMMARY:8. Ausfahrt Route 4a - Badiausfahrt
DESCRIPTION:Der Cityskate Winterthur lädt alle herzlich ein an unserer siebten Ausfahrt teilzunehmen. \nBesammlungsstart: 19:45 Uhr\nStart der Ausfahrt: 20:15 Uhr \nEine technisch einfache und kurze Ausfahrt mit anschliessendem Badeplausch in der Badi Oberi. Gemütlich fahren wir entlang des Waldrandes in Richtung Seen und dann via Seenerstrasse nach Oberwinterthur\, wo wir in der Badi Oberi erwartet werden. Die Route endet hier.  \nNun bleibt genug Zeit sich in der Badi ins kühle Wasser zu stürzen und eine Erfrischung zu geniessen. Nachdem wir den warmen Sommerabend gemütlich haben ausklingen lassen\, fährt jeder selbstständig von der Badi nach Hause. \nLänge 11.5 km
URL:https://cityskate.ch/event/7-ausfahrt-route-4a-badiausfahrt/
LOCATION:Route 4a – Badiausfahrt Anderer Startort\, Oberer Graben 40\, Winterthur\, Zürich\, 8400\, Switzerland
CATEGORIES:Ausfahrten
END:VEVENT
BEGIN:VEVENT
DTSTART;TZID=Europe/Berlin:20260817T194500
DTEND;TZID=Europe/Berlin:20260817T221500
DTSTAMP:20260423T142520
CREATED:20240303T161832Z
LAST-MODIFIED:20260323T194421Z
UID:1226-1786995900-1787004900@cityskate.ch
SUMMARY:9. Ausfahrt Route 4 - Goldenberg
DESCRIPTION:Der Cityskate Winterthur lädt alle herzlich ein an unserer neunten Ausfahrt teilzunehmen. \nBesammlungsstart: 19:45 Uhr\nStart der Ausfahrt: 20:15 Uhr \nEine wunderschöne\, mässig steile und langgezogene\, Abfahrten kann man bei dieser Route geniessen. Die Rychenbergstrasse\, wo man unterhalb der Rebberge des Goldenbergs zum Kantonsspital und zurück zur Altstadt in Angriff nimmt. Wenn dann noch hochsommerliche Verhältnisse herrschen\, ist die Kombination perfekt und man kann in der Pause – sofern man an die Badehose gedacht hat – ein erfrischendes Bad und kulinarische Köstlichkeiten in der Badi Oberi geniessen. \nLänge: 19.8 km
URL:https://cityskate.ch/event/9-ausfahrt-route-4-goldenberg/
LOCATION:Route 4 – Goldenberg anderer Startort\, Oberer Graben 40\, Winterthur\, Zürich\, 8400\, Switzerland
CATEGORIES:Ausfahrten
END:VEVENT
BEGIN:VEVENT
DTSTART;TZID=Europe/Berlin:20260831T194500
DTEND;TZID=Europe/Berlin:20260831T221500
DTSTAMP:20260423T142520
CREATED:20220523T093533Z
LAST-MODIFIED:20260303T134113Z
UID:1228-1788205500-1788214500@cityskate.ch
SUMMARY:10. Ausfahrt Route 3 - Eulachpark
DESCRIPTION:Der Cityskate Winterthur lädt alle herzlich ein an unserer Saisonabschluss Ausfahrt teilzunehmen. \nBesammlungsstart: 19:45 Uhr\nStart der Ausfahrt: 20:15 Uhr \nNachdem das Lindquartier durchstreift wurde\, begeben wir uns ins ehemalige Industriegebiet von Oberwinterthur\, wo uns das erste Highlight erwartet – der Eulachpark; Er ist der jüngste und grösste Park Winterthurs. Das ehemalige Dorf Hegi mit seinen historischen Häusern bildet einen gelungenen Übergang zur Pause bei der Coop Hegi. Auf dem Rückweg rollen wir durch die Quartiere Seen\, Mattenbach und Stadt zurück zum Ausgangspunkt. \nLänge: 18.5 km
URL:https://cityskate.ch/event/10-ausfahrt-route-3-eulachpark/
LOCATION:Route 3 – Eulachpark\, Steinberggasse 26\, Winterthur\, Zürich\, 8400\, Switzerland
CATEGORIES:Ausfahrten
END:VEVENT
BEGIN:VEVENT
DTSTART;TZID=Europe/Zurich:20260923T180000
DTEND;TZID=Europe/Zurich:20260923T233000
DTSTAMP:20260423T142520
CREATED:20220407T064855Z
LAST-MODIFIED:20260303T134152Z
UID:806-1790186400-1790206200@cityskate.ch
SUMMARY:Staffessen
DESCRIPTION:Gemeinsames Abendessen mit unseren tüchtigen Staff.
URL:https://cityskate.ch/event/saisonstart/
LOCATION:Zürich
CATEGORIES:Allgemeine Veranstaltung,Ausfahrten
END:VEVENT
END:VCALENDAR